BEGIN:VCALENDAR
VERSION:2.0
PRODID:-//Motorrad.Training - ECPv6.15.9//NONSGML v1.0//EN
CALSCALE:GREGORIAN
METHOD:PUBLISH
X-WR-CALNAME:Motorrad.Training
X-ORIGINAL-URL:https://motorrad.training
X-WR-CALDESC:Veranstaltungen für Motorrad.Training
REFRESH-INTERVAL;VALUE=DURATION:PT1H
X-Robots-Tag:noindex
X-PUBLISHED-TTL:PT1H
BEGIN:VTIMEZONE
TZID:Europe/Berlin
BEGIN:DAYLIGHT
TZOFFSETFROM:+0100
TZOFFSETTO:+0200
TZNAME:CEST
DTSTART:20230326T010000
END:DAYLIGHT
BEGIN:STANDARD
TZOFFSETFROM:+0200
TZOFFSETTO:+0100
TZNAME:CET
DTSTART:20231029T010000
END:STANDARD
BEGIN:DAYLIGHT
TZOFFSETFROM:+0100
TZOFFSETTO:+0200
TZNAME:CEST
DTSTART:20240331T010000
END:DAYLIGHT
BEGIN:STANDARD
TZOFFSETFROM:+0200
TZOFFSETTO:+0100
TZNAME:CET
DTSTART:20241027T010000
END:STANDARD
BEGIN:DAYLIGHT
TZOFFSETFROM:+0100
TZOFFSETTO:+0200
TZNAME:CEST
DTSTART:20250330T010000
END:DAYLIGHT
BEGIN:STANDARD
TZOFFSETFROM:+0200
TZOFFSETTO:+0100
TZNAME:CET
DTSTART:20251026T010000
END:STANDARD
END:VTIMEZONE
BEGIN:VEVENT
DTSTART;VALUE=DATE:20240928
DTEND;VALUE=DATE:20240929
DTSTAMP:20260422T104636
CREATED:20240318T210239Z
LAST-MODIFIED:20240318T210239Z
UID:7036-1727481600-1727567999@motorrad.training
SUMMARY:Motogymkhana freies Training Sinsheim
DESCRIPTION:Freies Motogymkhana Training in Sinsheim. Technik Museum Sinsheim Eberhard-Layher-Straße 1\, 74889 Sinsheim\, Deutschland\nEigenes Motorrad notwendig.\nFür Mitglieder frei. \nAnmeldung über https://forms.gle/jFfc4bgLs2NNasYj9
URL:https://motorrad.training/event/motogymkhana-freies-training-sinsheim-2/
LOCATION:Technik Museum Sinsheim\, Eberhard-Layher-Straße 1\, 74889 Sinsheim\, Deutschland
CATEGORIES:MotoGymkhana
ATTACH;FMTTYPE=image/jpeg:https://motorrad.training/wp-content/uploads/2024/03/IMG_1965-6.jpg
ORGANIZER;CN="Motogymkhana Deutschland":MAILTO:info@motogymkhana.de
GEO:49.238784;8.8972425
X-APPLE-STRUCTURED-LOCATION;VALUE=URI;X-ADDRESS=Technik Museum Sinsheim Eberhard-Layher-Straße 1 74889 Sinsheim Deutschland;X-APPLE-RADIUS=500;X-TITLE=Eberhard-Layher-Straße 1\, 74889 Sinsheim:geo:8.8972425,49.238784
END:VEVENT
END:VCALENDAR