BEGIN:VCALENDAR
VERSION:2.0
PRODID:-//Motorrad.Training - ECPv6.15.9//NONSGML v1.0//EN
CALSCALE:GREGORIAN
METHOD:PUBLISH
X-WR-CALNAME:Motorrad.Training
X-ORIGINAL-URL:https://motorrad.training
X-WR-CALDESC:Veranstaltungen für Motorrad.Training
REFRESH-INTERVAL;VALUE=DURATION:PT1H
X-Robots-Tag:noindex
X-PUBLISHED-TTL:PT1H
BEGIN:VTIMEZONE
TZID:Europe/Berlin
BEGIN:DAYLIGHT
TZOFFSETFROM:+0100
TZOFFSETTO:+0200
TZNAME:CEST
DTSTART:20230326T010000
END:DAYLIGHT
BEGIN:STANDARD
TZOFFSETFROM:+0200
TZOFFSETTO:+0100
TZNAME:CET
DTSTART:20231029T010000
END:STANDARD
BEGIN:DAYLIGHT
TZOFFSETFROM:+0100
TZOFFSETTO:+0200
TZNAME:CEST
DTSTART:20240331T010000
END:DAYLIGHT
BEGIN:STANDARD
TZOFFSETFROM:+0200
TZOFFSETTO:+0100
TZNAME:CET
DTSTART:20241027T010000
END:STANDARD
BEGIN:DAYLIGHT
TZOFFSETFROM:+0100
TZOFFSETTO:+0200
TZNAME:CEST
DTSTART:20250330T010000
END:DAYLIGHT
BEGIN:STANDARD
TZOFFSETFROM:+0200
TZOFFSETTO:+0100
TZNAME:CET
DTSTART:20251026T010000
END:STANDARD
END:VTIMEZONE
BEGIN:VEVENT
DTSTART;VALUE=DATE:20240629
DTEND;VALUE=DATE:20240630
DTSTAMP:20260422T144130
CREATED:20240326T171452Z
LAST-MODIFIED:20240326T171452Z
UID:7625-1719619200-1719705599@motorrad.training
SUMMARY:Training für Sportfahrer und Rennstreckenneulinge
DESCRIPTION:Training für Sportfahrer- und Rennstreckenneulinge auf der neu erbauten Strecke Circuit de Mirecourt am Samstag\, 29. Juni \n4 Gruppen mit je 6 Turns: \nB1 – mittelschnell bis schnell\nB2 – mittelschnell\nB3 – mittelschnell bis weniger schnell\nmotorschool – Instruktorgeführtes Fahren in kleinen Gruppen für Rennstreckenneulinge oder weniger Geübte; eigene 125er-Gruppe\, Sonderpreis 199\,- € für 125er-Piloten von 16-20 Jahren! \nEvent kombinierbar mit 30.06. \nWir waren schon auf dem Circuit de Mirecourt und haben ein Streckenvorstellungsvideo gedreht. Dies findet ihr auf unserem youtube-Channel unter \n\n\nSie sehen gerade einen Platzhalterinhalt von Standard. Um auf den eigentlichen Inhalt zuzugreifen\, klicken Sie auf den Button unten. Bitte beachten Sie\, dass dabei Daten an Drittanbieter weitergegeben werden. \n Inhalt entsperren Erforderlichen Service akzeptieren und Inhalte entsperren \n Weitere Informationen \n\nBonusregelung: ab der 2. Buchung bei uns gibt es 10\,- € Bonus pro Tag\, also z.B. Buchung von 2 Tagen = Bonus total 20\,- €\, Buchung von 5 Tagen = Bonus 50\,- € total usw. \nAlle weiteren Infos und Anmeldung auf unserer Website https://www.motorspeed.de/
URL:https://motorrad.training/event/training-fuer-sportfahrer-und-rennstreckenneulinge-3/
LOCATION:Circuit de Mirecourt – Juvaincourt\, 270 Rue de Champagne\, 88500 Juvaincourt\, Frankreich
CATEGORIES:Instruktor-Training,Rennstreckentraining
ATTACH;FMTTYPE=image/jpeg:https://motorrad.training/wp-content/uploads/2024/03/Freies-Fahren-2-1.jpg
ORGANIZER;CN="motorspeed":MAILTO:kontakt@motorspeed.de
GEO:48.3198015;6.0778911
X-APPLE-STRUCTURED-LOCATION;VALUE=URI;X-ADDRESS=Circuit de Mirecourt – Juvaincourt 270 Rue de Champagne 88500 Juvaincourt Frankreich;X-APPLE-RADIUS=500;X-TITLE=270 Rue de Champagne\, 88500 Juvaincourt:geo:6.0778911,48.3198015
END:VEVENT
END:VCALENDAR