BEGIN:VCALENDAR
VERSION:2.0
PRODID:-//Motorrad.Training - ECPv6.15.9//NONSGML v1.0//EN
CALSCALE:GREGORIAN
METHOD:PUBLISH
X-WR-CALNAME:Motorrad.Training
X-ORIGINAL-URL:https://motorrad.training
X-WR-CALDESC:Veranstaltungen für Motorrad.Training
REFRESH-INTERVAL;VALUE=DURATION:PT1H
X-Robots-Tag:noindex
X-PUBLISHED-TTL:PT1H
BEGIN:VTIMEZONE
TZID:Europe/Berlin
BEGIN:DAYLIGHT
TZOFFSETFROM:+0100
TZOFFSETTO:+0200
TZNAME:CEST
DTSTART:20230326T010000
END:DAYLIGHT
BEGIN:STANDARD
TZOFFSETFROM:+0200
TZOFFSETTO:+0100
TZNAME:CET
DTSTART:20231029T010000
END:STANDARD
BEGIN:DAYLIGHT
TZOFFSETFROM:+0100
TZOFFSETTO:+0200
TZNAME:CEST
DTSTART:20240331T010000
END:DAYLIGHT
BEGIN:STANDARD
TZOFFSETFROM:+0200
TZOFFSETTO:+0100
TZNAME:CET
DTSTART:20241027T010000
END:STANDARD
BEGIN:DAYLIGHT
TZOFFSETFROM:+0100
TZOFFSETTO:+0200
TZNAME:CEST
DTSTART:20250330T010000
END:DAYLIGHT
BEGIN:STANDARD
TZOFFSETFROM:+0200
TZOFFSETTO:+0100
TZNAME:CET
DTSTART:20251026T010000
END:STANDARD
END:VTIMEZONE
BEGIN:VEVENT
DTSTART;TZID=Europe/Berlin:20240713T090000
DTEND;TZID=Europe/Berlin:20240713T170000
DTSTAMP:20260422T122823
CREATED:20240130T053214Z
LAST-MODIFIED:20240130T053214Z
UID:10000232-1720861200-1720890000@motorrad.training
SUMMARY:Sicherheits- und Schräglagentraining
DESCRIPTION:Unser Angebot umfasst ein Sicherheits- und Schräglagentraining\, das speziell für Motorradfahrer konzipiert wurde und dazu beitragen wird\, die Fahrtechnik zu verbessern. Dadurch wird der Fahrer sicherer und hat weniger Angst vor Kurven\, Schräglage und unvorhergesehenen Ereignissen. Wodurch sich auch der Sozius spürbar wohler fühlt. \nNur auf einem abgesperrten Gelände führen wir unser Sicherheits- und Schräglagentraining auf unseren speziell umgebauten Trainingsmotorrädern durch. Die umgebauten Motorräder verfügen über zusätzliche\, besonders leichte Stützen mit Räder\, die es ermöglichen\, Schräglagen von etwa 20 bis 50 Grad einzustellen und somit sicher zu fahren. \nDas Sicherheits- und Schräglagentraining von Sicher-am-Limit konzentriert sich hauptsächlich auf das Fahren im öffentlichen Straßenverkehr. Durch das Training lernen Sie nicht nur theoretisch\, sondern auch praktisch\, welche Bedingungen erforderlich sind\, um ein Motorrad sicher und gut zu fahren. Das Ziel des Trainings besteht darin\, die Angst vor Schräglage zu verringern und eine bessere Blicktechnik zu entwickeln\, um mehr Sicherheit beim Fahren in Schräglage zu gewinnen und um in schwierigen Situationen besser zu reagieren und Unfälle zu vermeiden. \nUnsere Übungen zeigen hervorragend\, wo Ihre eigenen Schwierigkeiten beim Kurvenfahren liegen\, ob Ihre Blicktechnik und Ihre Körperhaltung richtig sind und vieles mehr. Dies ermöglicht uns\, zusammen an einer Verbesserung zu arbeiten. \nAufgrund des Vertrauens in seine Fähigkeit\, zu fahren\, gewinnt auch der Sozius\, und lange Motorradtouren werden einfacher und bringen wieder Freude mit sich. \nWir legen großen Wert auf Sicherheit! \n  \nInformationen zum Training::\nDie Gruppe hat eine Größe von 6 bis 7 Teilnehmern\nDas Training beginnt um 09:00 Uhr und findet in Leonberg statt\nDas Training erfolgt ausschließlich auf den Trainingsmotorrädern.\nMotorradschutzkleidung\, Helm\, Handschuhe und Motorradstiefel sind Pflicht\nAuch bei Regen wird trainiert! \nDas Training wird wie folgt ablaufen: \n\neine Vorstellungsrunde\,\ndas Angewöhnen ans Fahrzeug\, verschiedene Kurventechniken fahren\,\nDiskussionen über Risiken im öffentlichen Straßenverkehr\,\nÜberfahren von Gegenständen\,\nBlickführung/Körperhaltung\,\ngrößere Schräglage fahren\,\nRennstreckenfahrtechnik kennenlernen\,\nHanging-Off/Knieschleifen\nAbschluss des Trainings.\n\nZwischendurch werden auch theoretische Einheiten angeboten. \nJe nach Gruppe wird das Sicherheits- und Schräglagentraining unterschiedlich durchgeführt. Dadurch kann sich der Zeitplan jederzeit ändern.\nWir bemühen uns\, jeden Teilnehmer individuell zu behandeln und alle Fragen sorgfältig zu beantworten. \nEuer Sicher-am-Limit Team
URL:https://motorrad.training/event/sicherheits-und-schraeglagentraining/2024-07-13/
LOCATION:Berufliches Schulzentrum Leonberg\, Fockentalweg 18\, 71229 Leonberg\, Deutschland
CATEGORIES:Fahrsicherheitstraining,Instruktor-Training,Kurventraining,Perfektionstraining,Schräglagentraining
ATTACH;FMTTYPE=image/png:https://motorrad.training/wp-content/uploads/2024/01/DSC_8204.png
ORGANIZER;CN="Sicher-am-Limit":MAILTO:kontakt@sicher-am-limit.de
GEO:48.8043443;9.0033586
X-APPLE-STRUCTURED-LOCATION;VALUE=URI;X-ADDRESS=Berufliches Schulzentrum Leonberg Fockentalweg 18 71229 Leonberg Deutschland;X-APPLE-RADIUS=500;X-TITLE=Fockentalweg 18\, 71229 Leonberg:geo:9.0033586,48.8043443
END:VEVENT
END:VCALENDAR