BEGIN:VCALENDAR
VERSION:2.0
PRODID:-//Motorrad.Training - ECPv6.15.9//NONSGML v1.0//EN
CALSCALE:GREGORIAN
METHOD:PUBLISH
X-WR-CALNAME:Motorrad.Training
X-ORIGINAL-URL:https://motorrad.training
X-WR-CALDESC:Veranstaltungen für Motorrad.Training
REFRESH-INTERVAL;VALUE=DURATION:PT1H
X-Robots-Tag:noindex
X-PUBLISHED-TTL:PT1H
BEGIN:VTIMEZONE
TZID:Europe/Berlin
BEGIN:DAYLIGHT
TZOFFSETFROM:+0100
TZOFFSETTO:+0200
TZNAME:CEST
DTSTART:20240331T010000
END:DAYLIGHT
BEGIN:STANDARD
TZOFFSETFROM:+0200
TZOFFSETTO:+0100
TZNAME:CET
DTSTART:20241027T010000
END:STANDARD
BEGIN:DAYLIGHT
TZOFFSETFROM:+0100
TZOFFSETTO:+0200
TZNAME:CEST
DTSTART:20250330T010000
END:DAYLIGHT
BEGIN:STANDARD
TZOFFSETFROM:+0200
TZOFFSETTO:+0100
TZNAME:CET
DTSTART:20251026T010000
END:STANDARD
BEGIN:DAYLIGHT
TZOFFSETFROM:+0100
TZOFFSETTO:+0200
TZNAME:CEST
DTSTART:20260329T010000
END:DAYLIGHT
BEGIN:STANDARD
TZOFFSETFROM:+0200
TZOFFSETTO:+0100
TZNAME:CET
DTSTART:20261025T010000
END:STANDARD
END:VTIMEZONE
BEGIN:VEVENT
DTSTART;TZID=Europe/Berlin:20250412T080000
DTEND;TZID=Europe/Berlin:20250412T170000
DTSTAMP:20260422T005912
CREATED:20241120T054242Z
LAST-MODIFIED:20241120T054242Z
UID:10000774-1744444800-1744477200@motorrad.training
SUMMARY:Schräglagentraining 2.0 Kompakt „Vormittag“
DESCRIPTION:Zuerst alle Teilnehmer auf eine Wissensebene abholen und die Grundlagen vermitteln. Einstieg in die Praxis mit dem Schräglagentrainer sowie dem Pitbike und speziellen Fahrübungen\, wodurch gezielt Fahrfehler sichtbar werden und wir euch direkt im Fahrbetrieb darauf hinweisen und korrigieren können (aktives Feedback für ein Maximum an Lerneffekt). \n\n\n\n\nPaketübersicht\n2 Stationen gleichzeitig\nMax. 6 Teilnehmer\nMax. 3 Fahrer pro Gruppe!\nMax. Fahrzeit – Gelerntes vertiefen\nSehr lange Fahrzeit\nKeine Sturzkasse \n\n\n\n\nAblauf\n\n\n\n\n\n\nBegrüßung & kurze Theorie\nPraxis in 2 Gruppen\nPitbike – Achter\nMotorrad – Kreisbahn
URL:https://motorrad.training/event/schraeglagentraining-2-0-kompakt-vormittag/2025-04-12/1/
LOCATION:MSC Asperg\, Altachstraße 4\, Asperg\, Stuttgart\, 71679\, Germany
CATEGORIES:Schräglagentraining
ATTACH;FMTTYPE=image/jpeg:https://motorrad.training/wp-content/uploads/2024/11/SLT_Asperg.jpg
ORGANIZER;CN="Racetrck":MAILTO:info@racetrck.de
GEO:48.9117845;9.1562174
X-APPLE-STRUCTURED-LOCATION;VALUE=URI;X-ADDRESS=MSC Asperg Altachstraße 4 Asperg Stuttgart 71679 Germany;X-APPLE-RADIUS=500;X-TITLE=Altachstraße 4:geo:9.1562174,48.9117845
END:VEVENT
END:VCALENDAR