BEGIN:VCALENDAR
VERSION:2.0
PRODID:-//Motorrad.Training - ECPv6.15.9//NONSGML v1.0//EN
CALSCALE:GREGORIAN
METHOD:PUBLISH
X-WR-CALNAME:Motorrad.Training
X-ORIGINAL-URL:https://motorrad.training
X-WR-CALDESC:Veranstaltungen für Motorrad.Training
REFRESH-INTERVAL;VALUE=DURATION:PT1H
X-Robots-Tag:noindex
X-PUBLISHED-TTL:PT1H
BEGIN:VTIMEZONE
TZID:Europe/Berlin
BEGIN:DAYLIGHT
TZOFFSETFROM:+0100
TZOFFSETTO:+0200
TZNAME:CEST
DTSTART:20230326T010000
END:DAYLIGHT
BEGIN:STANDARD
TZOFFSETFROM:+0200
TZOFFSETTO:+0100
TZNAME:CET
DTSTART:20231029T010000
END:STANDARD
BEGIN:DAYLIGHT
TZOFFSETFROM:+0100
TZOFFSETTO:+0200
TZNAME:CEST
DTSTART:20240331T010000
END:DAYLIGHT
BEGIN:STANDARD
TZOFFSETFROM:+0200
TZOFFSETTO:+0100
TZNAME:CET
DTSTART:20241027T010000
END:STANDARD
BEGIN:DAYLIGHT
TZOFFSETFROM:+0100
TZOFFSETTO:+0200
TZNAME:CEST
DTSTART:20250330T010000
END:DAYLIGHT
BEGIN:STANDARD
TZOFFSETFROM:+0200
TZOFFSETTO:+0100
TZNAME:CET
DTSTART:20251026T010000
END:STANDARD
END:VTIMEZONE
BEGIN:VEVENT
DTSTART;TZID=Europe/Berlin:20240911T093000
DTEND;TZID=Europe/Berlin:20240911T153000
DTSTAMP:20260422T065529
CREATED:20240114T191753Z
LAST-MODIFIED:20240114T191753Z
UID:10000197-1726047000-1726068600@motorrad.training
SUMMARY:Pitbike Training mit eigenem Bike
DESCRIPTION:Ganz egal\, ob Racer\, Anfänger\, weiblich\, männlich\, zu zweit oder als ganzer Club – bei diesem Coaching lernt ihr\, wie ihr ein Pit Bike perfekt beherrscht und so eure Fahrtechniken auf einem großen Motorrad extrem verbessert. Denn auf den kleinen Pit Bikes kann die Sitzposition von Supersportmotorrädern simuliert werden – ohne solche Gefahren einzugehen. So näherst du dich bei diesem Training mit extrem hohen Fahranteil Runde für Runde der Ideallinie und testest den Grenzbereich aus.
URL:https://motorrad.training/event/pitbike-training-mit-eigenem-bike/2024-09-11/
LOCATION:Kartshop Ampfing\, Notzen 11\, 84539 Ampfing\, Deutschland
ATTACH;FMTTYPE=image/jpeg:https://motorrad.training/wp-content/uploads/2024/01/DSC_0867-Kopie-1030x683-1.jpg
ORGANIZER;CN="UNDER CONTROL Motorsport GmbH":MAILTO:office@undercontrol.com
GEO:48.2582056;12.411694
X-APPLE-STRUCTURED-LOCATION;VALUE=URI;X-ADDRESS=Kartshop Ampfing Notzen 11 84539 Ampfing Deutschland;X-APPLE-RADIUS=500;X-TITLE=Notzen 11\, 84539 Ampfing:geo:12.411694,48.2582056
END:VEVENT
END:VCALENDAR