BEGIN:VCALENDAR
VERSION:2.0
PRODID:-//Motorrad.Training - ECPv6.15.9//NONSGML v1.0//EN
CALSCALE:GREGORIAN
METHOD:PUBLISH
X-WR-CALNAME:Motorrad.Training
X-ORIGINAL-URL:https://motorrad.training
X-WR-CALDESC:Veranstaltungen für Motorrad.Training
REFRESH-INTERVAL;VALUE=DURATION:PT1H
X-Robots-Tag:noindex
X-PUBLISHED-TTL:PT1H
BEGIN:VTIMEZONE
TZID:Europe/Berlin
BEGIN:DAYLIGHT
TZOFFSETFROM:+0100
TZOFFSETTO:+0200
TZNAME:CEST
DTSTART:20250330T010000
END:DAYLIGHT
BEGIN:STANDARD
TZOFFSETFROM:+0200
TZOFFSETTO:+0100
TZNAME:CET
DTSTART:20251026T010000
END:STANDARD
BEGIN:DAYLIGHT
TZOFFSETFROM:+0100
TZOFFSETTO:+0200
TZNAME:CEST
DTSTART:20260329T010000
END:DAYLIGHT
BEGIN:STANDARD
TZOFFSETFROM:+0200
TZOFFSETTO:+0100
TZNAME:CET
DTSTART:20261025T010000
END:STANDARD
BEGIN:DAYLIGHT
TZOFFSETFROM:+0100
TZOFFSETTO:+0200
TZNAME:CEST
DTSTART:20270328T010000
END:DAYLIGHT
BEGIN:STANDARD
TZOFFSETFROM:+0200
TZOFFSETTO:+0100
TZNAME:CET
DTSTART:20271031T010000
END:STANDARD
END:VTIMEZONE
BEGIN:VEVENT
DTSTART;TZID=Europe/Berlin:20260118T080000
DTEND;TZID=Europe/Berlin:20260118T140000
DTSTAMP:20260422T010808
CREATED:20251021T085241Z
LAST-MODIFIED:20251021T085241Z
UID:10000880-1768723200-1768744800@motorrad.training
SUMMARY:Pitbike Training Indoor Wörth
DESCRIPTION:Veranstaltungsort:\nKartcenter Wörth; Rheinstraße 19; 76744 Wörth am Rhein \nPitbike Training Indoor Wörth\n\n\n\n\n\n\n\nVerbessere mit dem Pitbike Indoor Training deine Fahrtechnik\, um noch mehr Sicherheit mit dem großen Motorrad auf der Landstraße und auf der Rennstrecke zu haben. Das Pitbike Indoor Training ist sowohl für Anfänger als auch Fortgeschrittene geeignet. Du kannst mit deinem eigenen Pitbike oder einem Leih-Pitbike teilnehmen. Es wird in 4 Gruppen gefahren. Einteilung erfolgt vor Ort nach Selbsteinschätzung. \n\n\n\n\nPaketübersicht\n 5 Turns (5x 12 Minuten)\n Kostenfreier Instruktor nach Verfügbarkeit\n Spaßfaktor garantiert\n Kostenloser Fotograf (Bilder später zum Download)\n Ausreichend Streckenposten für eure Sicherheit\n Technischer Support \nWichtige Infos\n\nLautstärke\nFahren nur mit Zubehörauspuff und dB. Killer zulässig. Keine Originalendtöpfe erlaubt. \nKraftstoff\nEs darf nur für Indoor zugelassener Kraftstoff Hercutec 4T oder Aspen 4T gefahren werden. Tank muss bei Anreise leer sein und wird beim Einchecken kontrolliert. Der Hercutec Karftstoff hat absolut keine Nachteile und ist nicht schädlich für deinen Motor. \nVorteile der Verwendung des Kraftstoffes Hercutec\n– Erhaltung deiner Gesundheit durch verbesserte Luftqualität\n– Keine Kopfschmerzen auf Grund der Luftverschmutzung\n– Keine Belastung für Zuschauer\n– Sicherstellung der langfristigen Bahnnutzung \nSturzpads\nEs dürfen nur Pitbikes mit folgenden Sturzprotektoren fahren: Achse vorne & hinten\, Fussrasten\, Lenkerenden. Ohne Sturzpad kein Auslass auf die Strecke. Auch bei uns erhältlich!
URL:https://motorrad.training/event/pitbike-training-indoor-woerth/2026-01-18/
CATEGORIES:Knieschleifen lernen,Kurventraining,Minibike-Training,Perfektionstraining,Pitbike-Training,Schräglagentraining
ATTACH;FMTTYPE=image/jpeg:https://motorrad.training/wp-content/uploads/2023/11/RaceTrck-300x300-1.jpg
ORGANIZER;CN="Racetrck":MAILTO:info@racetrck.de
END:VEVENT
END:VCALENDAR