BEGIN:VCALENDAR
VERSION:2.0
PRODID:-//Motorrad.Training - ECPv6.15.9//NONSGML v1.0//EN
CALSCALE:GREGORIAN
METHOD:PUBLISH
X-WR-CALNAME:Motorrad.Training
X-ORIGINAL-URL:https://motorrad.training
X-WR-CALDESC:Veranstaltungen für Motorrad.Training
REFRESH-INTERVAL;VALUE=DURATION:PT1H
X-Robots-Tag:noindex
X-PUBLISHED-TTL:PT1H
BEGIN:VTIMEZONE
TZID:Europe/Berlin
BEGIN:DAYLIGHT
TZOFFSETFROM:+0100
TZOFFSETTO:+0200
TZNAME:CEST
DTSTART:20240331T010000
END:DAYLIGHT
BEGIN:STANDARD
TZOFFSETFROM:+0200
TZOFFSETTO:+0100
TZNAME:CET
DTSTART:20241027T010000
END:STANDARD
BEGIN:DAYLIGHT
TZOFFSETFROM:+0100
TZOFFSETTO:+0200
TZNAME:CEST
DTSTART:20250330T010000
END:DAYLIGHT
BEGIN:STANDARD
TZOFFSETFROM:+0200
TZOFFSETTO:+0100
TZNAME:CET
DTSTART:20251026T010000
END:STANDARD
BEGIN:DAYLIGHT
TZOFFSETFROM:+0100
TZOFFSETTO:+0200
TZNAME:CEST
DTSTART:20260329T010000
END:DAYLIGHT
BEGIN:STANDARD
TZOFFSETFROM:+0200
TZOFFSETTO:+0100
TZNAME:CET
DTSTART:20261025T010000
END:STANDARD
END:VTIMEZONE
BEGIN:VEVENT
DTSTART;TZID=Europe/Berlin:20251102T080000
DTEND;TZID=Europe/Berlin:20251102T140000
DTSTAMP:20260421T214646
CREATED:20251017T172408Z
LAST-MODIFIED:20251019T162413Z
UID:10000862-1762070400-1762092000@motorrad.training
SUMMARY:Pitbike Indoor Training Rottweil
DESCRIPTION:Pitbike Training Indoor Rottweil\n\n\n\n\n\n\n\nVerbessere mit dem Pitbike Indoor Training deine Fahrtechnik\, um noch mehr Sicherheit mit dem großen Motorrad auf der Landstraße und auf der Rennstrecke zu haben. Das Pitbike Indoor Training ist sowohl für Anfänger als auch Fortgeschrittene geeignet. Du kannst mit deinem eigenen Pitbike oder einem Leih-Pitbike teilnehmen. Es wird in 4 Gruppen gefahren. Einteilung erfolgt vor Ort nach Selbsteinschätzung. \n\n\n\n\nPaketübersicht\n5 Turns (5x 12 Minuten)\nKostenfreier Instruktor nach Verfügbarkeit\nSpaßfaktor garantiert\nKostenloser Fotograf (Bilder später zum Download)\nAusreichend Streckenposten für eure Sicherheit\nTechnischer Support \n\nWichtige Infos\n\nLautstärke\nFahren nur mit Zubehörauspuff und dB. Killer zulässig. Keine Originalendtöpfe erlaubt. \nKraftstoff\nEs darf nur für Indoor zugelassener Kraftstoff Hercutec 4T oder Aspen 4T gefahren werden. Bei uns vor Ort für 5 €/Liter erhältlich. Tank muss bei Anreise leer sein und wird beim Einchecken kontrolliert. Den richtigen Kraftstoff kannst du direkt mitbuchen oder vor Ort kaufen. Der Hercutec Karftstoff hat absolut keine Nachteile und ist nicht schädlich für deinen Motor. \nVorteile der Verwendung des Kraftstoffes Hercutec\n– Erhaltung deiner Gesundheit durch verbesserte Luftqualität\n– Keine Kopfschmerzen auf Grund der Luftverschmutzung\n– Keine Belastung für Zuschauer\n– Sicherstellung der langfristigen Bahnnutzung \nSturzpads\nEs dürfen nur Pitbikes mit folgenden Sturzprotektoren fahren: Achse vorne & hinten\, Fussrasten\, Lenkerenden. Ohne Sturzpad kein Auslass auf die Strecke. Auch bei uns erhältlich!
URL:https://motorrad.training/event/pitbike-indoor-training-rottweil/2025-11-02/
LOCATION:Indy Kart Rottweil\, Neckartal 202\, Rottweil\, 78628\, Deutschland
CATEGORIES:Knieschleifen lernen,Minibike-Training,Perfektionstraining,Pitbike-Training,Schräglagentraining
ATTACH;FMTTYPE=image/jpeg:https://motorrad.training/wp-content/uploads/2023/11/RaceTrck-300x300-1.jpg
ORGANIZER;CN="Racetrck":MAILTO:info@racetrck.de
GEO:48.1772429;8.6142651
X-APPLE-STRUCTURED-LOCATION;VALUE=URI;X-ADDRESS=Indy Kart Rottweil Neckartal 202 Rottweil 78628 Deutschland;X-APPLE-RADIUS=500;X-TITLE=Neckartal 202:geo:8.6142651,48.1772429
END:VEVENT
END:VCALENDAR