BEGIN:VCALENDAR
VERSION:2.0
PRODID:-//Motorrad.Training - ECPv6.15.9//NONSGML v1.0//EN
CALSCALE:GREGORIAN
METHOD:PUBLISH
X-WR-CALNAME:Motorrad.Training
X-ORIGINAL-URL:https://motorrad.training
X-WR-CALDESC:Veranstaltungen für Motorrad.Training
REFRESH-INTERVAL;VALUE=DURATION:PT1H
X-Robots-Tag:noindex
X-PUBLISHED-TTL:PT1H
BEGIN:VTIMEZONE
TZID:Europe/Berlin
BEGIN:DAYLIGHT
TZOFFSETFROM:+0100
TZOFFSETTO:+0200
TZNAME:CEST
DTSTART:20240331T010000
END:DAYLIGHT
BEGIN:STANDARD
TZOFFSETFROM:+0200
TZOFFSETTO:+0100
TZNAME:CET
DTSTART:20241027T010000
END:STANDARD
BEGIN:DAYLIGHT
TZOFFSETFROM:+0100
TZOFFSETTO:+0200
TZNAME:CEST
DTSTART:20250330T010000
END:DAYLIGHT
BEGIN:STANDARD
TZOFFSETFROM:+0200
TZOFFSETTO:+0100
TZNAME:CET
DTSTART:20251026T010000
END:STANDARD
BEGIN:DAYLIGHT
TZOFFSETFROM:+0100
TZOFFSETTO:+0200
TZNAME:CEST
DTSTART:20260329T010000
END:DAYLIGHT
BEGIN:STANDARD
TZOFFSETFROM:+0200
TZOFFSETTO:+0100
TZNAME:CET
DTSTART:20261025T010000
END:STANDARD
END:VTIMEZONE
BEGIN:VEVENT
DTSTART;VALUE=DATE:20250628
DTEND;VALUE=DATE:20250630
DTSTAMP:20260421T103806
CREATED:20241207T094503Z
LAST-MODIFIED:20241207T094503Z
UID:8783-1751068800-1751241599@motorrad.training
SUMMARY:Kurventraining / Rennstreckentraining
DESCRIPTION:Infos zur Veranstaltung\nSportfahrer- / Kurven- / Rennstreckentraining\nEin Training für jeden! Es wird in 4 Gruppen mit unterschiedlichen Trainingsformaten mit je 6 Turns von 15 Minuten pro Tag gefahren. Fahrzeit nach Zeitplan. Änderungen vorbehalten! Unten findet ihr zur jeder Gruppe die Detailinformationen. Wir freuen uns euch eine solche Trainingsmöglichkeit anbieten zu können. \nNachwuchs- / Kindertraining\nELTERN AUFGEPASST – Wir haben etwas ganz neues für euch und euren Nachwuchs. Bei unserem Training am Spreewaldring bieten wir euren Kindern die Möglichkeit\, gemeinsam mit euch zu trainieren. JEDER in der Familie kann bei einem Training fahren. Wir bieten eine 5. Gruppe mit je 3 Turns / 15 Min am Tag an. In dieser Gruppe dürfen Kinder und Anfänger mit ihrem Pitbike\, Pocketbike\, etc. fahren und trainieren. \n\nTop Training zum Technik üben\nBlickführung & Körperhaltung\nPeripheres Sehen\nSicherer Rahmen durch geschultes Personal\nAbgesicherete Strecke\nArzt vor Ort\nTolle Atmosphäre\nGemeinsames Abendessen (exkl.)\nTombola & Freibier \n\n\n\n\nIm Preis inklusiv\n– 2 Tage freies / geführtes Fahren\n– Tombola\n– Freibier / Freicola für Kinder \nUnsere Leistung für deine Sicherheit\n– Rettungswagen und Sanitäter vor Ort\n– Zeitnahme zur Kontrolle und Gruppeneinteilung (Keine Schnellen und Langsamen zusammen) \n  \n\n\n\n\nVoraussetzungen zur Teilnahme\nDas Training eignet sich für alle Motorradfahrer\, vom routinierten Straßenfahrer und Rennstreckenneuling bis zum Hobbyrennfahrer\, da ist für alle etwas dabei. Es wird jedoch klar vorausgesetzt\, dass der Teilnehmer sein Bike fachgerecht bedienen kann. Idealerweise wurde vorab zumindest an einem Schräglagentraining teilgenommen.
URL:https://motorrad.training/event/kurventraining-rennstreckentraining-2/
LOCATION:Spreewaldring\, Waldhaus 2\, 15910 Schönwald\, Deutschland
CATEGORIES:Fahrsicherheitstraining,Instruktor-Training,Kurventraining,Perfektionstraining,Rennstreckentraining
ATTACH;FMTTYPE=image/png:https://motorrad.training/wp-content/uploads/2024/12/Logo_Spreewaldring_V2.png
ORGANIZER;CN="Racetrck":MAILTO:info@racetrck.de
GEO:51.9990716;13.6884502
X-APPLE-STRUCTURED-LOCATION;VALUE=URI;X-ADDRESS=Spreewaldring Waldhaus 2 15910 Schönwald Deutschland;X-APPLE-RADIUS=500;X-TITLE=Waldhaus 2\, 15910 Schönwald:geo:13.6884502,51.9990716
END:VEVENT
END:VCALENDAR