BEGIN:VCALENDAR
VERSION:2.0
PRODID:-//Motorrad.Training - ECPv6.15.9//NONSGML v1.0//EN
CALSCALE:GREGORIAN
METHOD:PUBLISH
X-WR-CALNAME:Motorrad.Training
X-ORIGINAL-URL:https://motorrad.training
X-WR-CALDESC:Veranstaltungen für Motorrad.Training
REFRESH-INTERVAL;VALUE=DURATION:PT1H
X-Robots-Tag:noindex
X-PUBLISHED-TTL:PT1H
BEGIN:VTIMEZONE
TZID:Europe/Berlin
BEGIN:DAYLIGHT
TZOFFSETFROM:+0100
TZOFFSETTO:+0200
TZNAME:CEST
DTSTART:20230326T010000
END:DAYLIGHT
BEGIN:STANDARD
TZOFFSETFROM:+0200
TZOFFSETTO:+0100
TZNAME:CET
DTSTART:20231029T010000
END:STANDARD
BEGIN:DAYLIGHT
TZOFFSETFROM:+0100
TZOFFSETTO:+0200
TZNAME:CEST
DTSTART:20240331T010000
END:DAYLIGHT
BEGIN:STANDARD
TZOFFSETFROM:+0200
TZOFFSETTO:+0100
TZNAME:CET
DTSTART:20241027T010000
END:STANDARD
BEGIN:DAYLIGHT
TZOFFSETFROM:+0100
TZOFFSETTO:+0200
TZNAME:CEST
DTSTART:20250330T010000
END:DAYLIGHT
BEGIN:STANDARD
TZOFFSETFROM:+0200
TZOFFSETTO:+0100
TZNAME:CET
DTSTART:20251026T010000
END:STANDARD
END:VTIMEZONE
BEGIN:VEVENT
DTSTART;TZID=Europe/Berlin:20240626T090000
DTEND;TZID=Europe/Berlin:20240626T163000
DTSTAMP:20260422T143950
CREATED:20240114T191544Z
LAST-MODIFIED:20240306T080129Z
UID:10000205-1719392400-1719419400@motorrad.training
SUMMARY:Kurventraining III
DESCRIPTION:Wir empfehlen unser Rundstrecken | Kurventraining II zur Vorbereitung\nReady für die Rennstrecke \nDieses Training ist die perfekte Vorbereitung\, wenn es dich auf die Rennstrecke zieht. Denn neben sportlichen Kurvenfahrten trainierst du verschiedenste Streckenführungen\, verbesserst Runde für Runde deine Technik und stellst unter den fachkundigen Augen unserer Trainer eine persönliche Bestzeit nach der anderen auf. \nDen größten Trainingserfolg bieten kleine Gruppen. Denn nur so können unsere Trainer perfekt auf eure Wünsche und Bedürfnisse eingehen. Und selbstverständlich ergänzen unsere Coaches in den Pausen alle Fahrmanöver um hilfreiches\, theoretisches Wissen. \nEine weitere Besonderheit dieses Motorrad Trainings ist\, dass du einen Turn auf Pitbikes deine Körperkoordination verbesserst. Denn auch die größten Rennfahrer haben mal auf ganz kleinen Maschinen angefangen.
URL:https://motorrad.training/event/kurventraining-iii/2024-06-26/
LOCATION:Kartshop Ampfing\, Notzen 11\, 84539 Ampfing\, Deutschland
CATEGORIES:Kurventraining
ATTACH;FMTTYPE=image/jpeg:https://motorrad.training/wp-content/uploads/2024/01/under_controll_08719-1030x687-1.jpg
ORGANIZER;CN="UNDER CONTROL Motorsport GmbH":MAILTO:office@undercontrol.com
GEO:48.2582056;12.411694
X-APPLE-STRUCTURED-LOCATION;VALUE=URI;X-ADDRESS=Kartshop Ampfing Notzen 11 84539 Ampfing Deutschland;X-APPLE-RADIUS=500;X-TITLE=Notzen 11\, 84539 Ampfing:geo:12.411694,48.2582056
END:VEVENT
END:VCALENDAR