BEGIN:VCALENDAR
VERSION:2.0
PRODID:-//Motorrad.Training - ECPv6.15.9//NONSGML v1.0//EN
CALSCALE:GREGORIAN
METHOD:PUBLISH
X-WR-CALNAME:Motorrad.Training
X-ORIGINAL-URL:https://motorrad.training
X-WR-CALDESC:Veranstaltungen für Motorrad.Training
REFRESH-INTERVAL;VALUE=DURATION:PT1H
X-Robots-Tag:noindex
X-PUBLISHED-TTL:PT1H
BEGIN:VTIMEZONE
TZID:Europe/Berlin
BEGIN:DAYLIGHT
TZOFFSETFROM:+0100
TZOFFSETTO:+0200
TZNAME:CEST
DTSTART:20250330T010000
END:DAYLIGHT
BEGIN:STANDARD
TZOFFSETFROM:+0200
TZOFFSETTO:+0100
TZNAME:CET
DTSTART:20251026T010000
END:STANDARD
BEGIN:DAYLIGHT
TZOFFSETFROM:+0100
TZOFFSETTO:+0200
TZNAME:CEST
DTSTART:20260329T010000
END:DAYLIGHT
BEGIN:STANDARD
TZOFFSETFROM:+0200
TZOFFSETTO:+0100
TZNAME:CET
DTSTART:20261025T010000
END:STANDARD
BEGIN:DAYLIGHT
TZOFFSETFROM:+0100
TZOFFSETTO:+0200
TZNAME:CEST
DTSTART:20270328T010000
END:DAYLIGHT
BEGIN:STANDARD
TZOFFSETFROM:+0200
TZOFFSETTO:+0100
TZNAME:CET
DTSTART:20271031T010000
END:STANDARD
END:VTIMEZONE
BEGIN:VEVENT
DTSTART;TZID=Europe/Berlin:20260425T080000
DTEND;TZID=Europe/Berlin:20260425T120000
DTSTAMP:20260422T063457
CREATED:20251021T084553Z
LAST-MODIFIED:20251021T084553Z
UID:10000976-1777104000-1777118400@motorrad.training
SUMMARY:ultimatives Motorrad Hallentraining
DESCRIPTION:3h Motorrad Fahrtechniktraining in Österreichs größter Indoor Kartbahn inkl. Steilwandkurve (+1 Min. Fahrzeit/Runde) – Daytona Kartsport in Langenzersdorf bei Wien. Inkl. Leihmotorrad\, aller Sturzkosten\, Streckenmiete und InstruktorInfo: Schutzausrüstung ist Eigenverantwortung und selbst mitzubringen. \nWir empfehlen: • Helm • Rückenschutz • Stiefel – über den Knöchel • Handschuhe mit Protektoren • Lederkombi (schützt besser) – Textil geht auch\, du kannst bei Bedarf vor Ort von uns kostenlos umschnallbare Knieslider ausleihen.
URL:https://motorrad.training/event/ultimatives-motorrad-hallentraining/2026-04-25/
LOCATION:Daytona Raceways\, Hochaustraße 33a\, 2103 Langenzersdorf\, Österreich\, Österreich
CATEGORIES:Fahren ohne Führerschein,Fahrsicherheitstraining,Instruktor-Training,Knieschleifen lernen,Kurventraining,Perfektionstraining,Rennstreckentraining,Schräglagentraining,Workshops
ATTACH;FMTTYPE=image/png:https://motorrad.training/wp-content/uploads/2025/10/HalleAT.png
ORGANIZER;CN="RIDE IT UP":MAILTO:info@rideitup.com
GEO:48.289691;16.3673902
X-APPLE-STRUCTURED-LOCATION;VALUE=URI;X-ADDRESS=Daytona Raceways Hochaustraße 33a 2103 Langenzersdorf Österreich Österreich;X-APPLE-RADIUS=500;X-TITLE=Hochaustraße 33a\, 2103 Langenzersdorf\, Österreich:geo:16.3673902,48.289691
END:VEVENT
BEGIN:VEVENT
DTSTART;TZID=Europe/Berlin:20260428T170000
DTEND;TZID=Europe/Berlin:20260428T200000
DTSTAMP:20260422T063457
CREATED:20251021T084553Z
LAST-MODIFIED:20251021T084553Z
UID:10000977-1777395600-1777406400@motorrad.training
SUMMARY:ultimatives Motorrad Hallentraining
DESCRIPTION:3h Motorrad Fahrtechniktraining in Österreichs größter Indoor Kartbahn inkl. Steilwandkurve (+1 Min. Fahrzeit/Runde) – Daytona Kartsport in Langenzersdorf bei Wien. Inkl. Leihmotorrad\, aller Sturzkosten\, Streckenmiete und InstruktorInfo: Schutzausrüstung ist Eigenverantwortung und selbst mitzubringen. \nWir empfehlen: • Helm • Rückenschutz • Stiefel – über den Knöchel • Handschuhe mit Protektoren • Lederkombi (schützt besser) – Textil geht auch\, du kannst bei Bedarf vor Ort von uns kostenlos umschnallbare Knieslider ausleihen.
URL:https://motorrad.training/event/ultimatives-motorrad-hallentraining/2026-04-28/
LOCATION:Daytona Raceways\, Hochaustraße 33a\, 2103 Langenzersdorf\, Österreich\, Österreich
CATEGORIES:Fahren ohne Führerschein,Fahrsicherheitstraining,Instruktor-Training,Knieschleifen lernen,Kurventraining,Perfektionstraining,Rennstreckentraining,Schräglagentraining,Workshops
ATTACH;FMTTYPE=image/png:https://motorrad.training/wp-content/uploads/2025/10/HalleAT.png
ORGANIZER;CN="RIDE IT UP":MAILTO:info@rideitup.com
GEO:48.289691;16.3673902
X-APPLE-STRUCTURED-LOCATION;VALUE=URI;X-ADDRESS=Daytona Raceways Hochaustraße 33a 2103 Langenzersdorf Österreich Österreich;X-APPLE-RADIUS=500;X-TITLE=Hochaustraße 33a\, 2103 Langenzersdorf\, Österreich:geo:16.3673902,48.289691
END:VEVENT
BEGIN:VEVENT
DTSTART;TZID=Europe/Berlin:20260501T080000
DTEND;TZID=Europe/Berlin:20260501T120000
DTSTAMP:20260422T063457
CREATED:20251021T084553Z
LAST-MODIFIED:20251021T084553Z
UID:10000978-1777622400-1777636800@motorrad.training
SUMMARY:ultimatives Motorrad Hallentraining
DESCRIPTION:3h Motorrad Fahrtechniktraining in Österreichs größter Indoor Kartbahn inkl. Steilwandkurve (+1 Min. Fahrzeit/Runde) – Daytona Kartsport in Langenzersdorf bei Wien. Inkl. Leihmotorrad\, aller Sturzkosten\, Streckenmiete und InstruktorInfo: Schutzausrüstung ist Eigenverantwortung und selbst mitzubringen. \nWir empfehlen: • Helm • Rückenschutz • Stiefel – über den Knöchel • Handschuhe mit Protektoren • Lederkombi (schützt besser) – Textil geht auch\, du kannst bei Bedarf vor Ort von uns kostenlos umschnallbare Knieslider ausleihen.
URL:https://motorrad.training/event/ultimatives-motorrad-hallentraining/2026-05-01/
LOCATION:Daytona Raceways\, Hochaustraße 33a\, 2103 Langenzersdorf\, Österreich\, Österreich
CATEGORIES:Fahren ohne Führerschein,Fahrsicherheitstraining,Instruktor-Training,Knieschleifen lernen,Kurventraining,Perfektionstraining,Rennstreckentraining,Schräglagentraining,Workshops
ATTACH;FMTTYPE=image/png:https://motorrad.training/wp-content/uploads/2025/10/HalleAT.png
ORGANIZER;CN="RIDE IT UP":MAILTO:info@rideitup.com
GEO:48.289691;16.3673902
X-APPLE-STRUCTURED-LOCATION;VALUE=URI;X-ADDRESS=Daytona Raceways Hochaustraße 33a 2103 Langenzersdorf Österreich Österreich;X-APPLE-RADIUS=500;X-TITLE=Hochaustraße 33a\, 2103 Langenzersdorf\, Österreich:geo:16.3673902,48.289691
END:VEVENT
BEGIN:VEVENT
DTSTART;TZID=Europe/Berlin:20260502T080000
DTEND;TZID=Europe/Berlin:20260502T120000
DTSTAMP:20260422T063457
CREATED:20251021T084553Z
LAST-MODIFIED:20251021T084553Z
UID:10000979-1777708800-1777723200@motorrad.training
SUMMARY:ultimatives Motorrad Hallentraining
DESCRIPTION:3h Motorrad Fahrtechniktraining in Österreichs größter Indoor Kartbahn inkl. Steilwandkurve (+1 Min. Fahrzeit/Runde) – Daytona Kartsport in Langenzersdorf bei Wien. Inkl. Leihmotorrad\, aller Sturzkosten\, Streckenmiete und InstruktorInfo: Schutzausrüstung ist Eigenverantwortung und selbst mitzubringen. \nWir empfehlen: • Helm • Rückenschutz • Stiefel – über den Knöchel • Handschuhe mit Protektoren • Lederkombi (schützt besser) – Textil geht auch\, du kannst bei Bedarf vor Ort von uns kostenlos umschnallbare Knieslider ausleihen.
URL:https://motorrad.training/event/ultimatives-motorrad-hallentraining/2026-05-02/
LOCATION:Daytona Raceways\, Hochaustraße 33a\, 2103 Langenzersdorf\, Österreich\, Österreich
CATEGORIES:Fahren ohne Führerschein,Fahrsicherheitstraining,Instruktor-Training,Knieschleifen lernen,Kurventraining,Perfektionstraining,Rennstreckentraining,Schräglagentraining,Workshops
ATTACH;FMTTYPE=image/png:https://motorrad.training/wp-content/uploads/2025/10/HalleAT.png
ORGANIZER;CN="RIDE IT UP":MAILTO:info@rideitup.com
GEO:48.289691;16.3673902
X-APPLE-STRUCTURED-LOCATION;VALUE=URI;X-ADDRESS=Daytona Raceways Hochaustraße 33a 2103 Langenzersdorf Österreich Österreich;X-APPLE-RADIUS=500;X-TITLE=Hochaustraße 33a\, 2103 Langenzersdorf\, Österreich:geo:16.3673902,48.289691
END:VEVENT
BEGIN:VEVENT
DTSTART;TZID=Europe/Berlin:20260509T080000
DTEND;TZID=Europe/Berlin:20260509T120000
DTSTAMP:20260422T063457
CREATED:20251021T084553Z
LAST-MODIFIED:20251021T084553Z
UID:10000980-1778313600-1778328000@motorrad.training
SUMMARY:ultimatives Motorrad Hallentraining
DESCRIPTION:3h Motorrad Fahrtechniktraining in Österreichs größter Indoor Kartbahn inkl. Steilwandkurve (+1 Min. Fahrzeit/Runde) – Daytona Kartsport in Langenzersdorf bei Wien. Inkl. Leihmotorrad\, aller Sturzkosten\, Streckenmiete und InstruktorInfo: Schutzausrüstung ist Eigenverantwortung und selbst mitzubringen. \nWir empfehlen: • Helm • Rückenschutz • Stiefel – über den Knöchel • Handschuhe mit Protektoren • Lederkombi (schützt besser) – Textil geht auch\, du kannst bei Bedarf vor Ort von uns kostenlos umschnallbare Knieslider ausleihen.
URL:https://motorrad.training/event/ultimatives-motorrad-hallentraining/2026-05-09/
LOCATION:Daytona Raceways\, Hochaustraße 33a\, 2103 Langenzersdorf\, Österreich\, Österreich
CATEGORIES:Fahren ohne Führerschein,Fahrsicherheitstraining,Instruktor-Training,Knieschleifen lernen,Kurventraining,Perfektionstraining,Rennstreckentraining,Schräglagentraining,Workshops
ATTACH;FMTTYPE=image/png:https://motorrad.training/wp-content/uploads/2025/10/HalleAT.png
ORGANIZER;CN="RIDE IT UP":MAILTO:info@rideitup.com
GEO:48.289691;16.3673902
X-APPLE-STRUCTURED-LOCATION;VALUE=URI;X-ADDRESS=Daytona Raceways Hochaustraße 33a 2103 Langenzersdorf Österreich Österreich;X-APPLE-RADIUS=500;X-TITLE=Hochaustraße 33a\, 2103 Langenzersdorf\, Österreich:geo:16.3673902,48.289691
END:VEVENT
BEGIN:VEVENT
DTSTART;TZID=Europe/Berlin:20260512T080000
DTEND;TZID=Europe/Berlin:20260512T120000
DTSTAMP:20260422T063457
CREATED:20251021T084553Z
LAST-MODIFIED:20251021T084553Z
UID:10000981-1778572800-1778587200@motorrad.training
SUMMARY:ultimatives Motorrad Hallentraining
DESCRIPTION:3h Motorrad Fahrtechniktraining in Österreichs größter Indoor Kartbahn inkl. Steilwandkurve (+1 Min. Fahrzeit/Runde) – Daytona Kartsport in Langenzersdorf bei Wien. Inkl. Leihmotorrad\, aller Sturzkosten\, Streckenmiete und InstruktorInfo: Schutzausrüstung ist Eigenverantwortung und selbst mitzubringen. \nWir empfehlen: • Helm • Rückenschutz • Stiefel – über den Knöchel • Handschuhe mit Protektoren • Lederkombi (schützt besser) – Textil geht auch\, du kannst bei Bedarf vor Ort von uns kostenlos umschnallbare Knieslider ausleihen.
URL:https://motorrad.training/event/ultimatives-motorrad-hallentraining/2026-05-12/
LOCATION:Daytona Raceways\, Hochaustraße 33a\, 2103 Langenzersdorf\, Österreich\, Österreich
CATEGORIES:Fahren ohne Führerschein,Fahrsicherheitstraining,Instruktor-Training,Knieschleifen lernen,Kurventraining,Perfektionstraining,Rennstreckentraining,Schräglagentraining,Workshops
ATTACH;FMTTYPE=image/png:https://motorrad.training/wp-content/uploads/2025/10/HalleAT.png
ORGANIZER;CN="RIDE IT UP":MAILTO:info@rideitup.com
GEO:48.289691;16.3673902
X-APPLE-STRUCTURED-LOCATION;VALUE=URI;X-ADDRESS=Daytona Raceways Hochaustraße 33a 2103 Langenzersdorf Österreich Österreich;X-APPLE-RADIUS=500;X-TITLE=Hochaustraße 33a\, 2103 Langenzersdorf\, Österreich:geo:16.3673902,48.289691
END:VEVENT
BEGIN:VEVENT
DTSTART;TZID=Europe/Berlin:20260516T080000
DTEND;TZID=Europe/Berlin:20260516T120000
DTSTAMP:20260422T063457
CREATED:20251021T084553Z
LAST-MODIFIED:20251021T084553Z
UID:10000982-1778918400-1778932800@motorrad.training
SUMMARY:ultimatives Motorrad Hallentraining
DESCRIPTION:3h Motorrad Fahrtechniktraining in Österreichs größter Indoor Kartbahn inkl. Steilwandkurve (+1 Min. Fahrzeit/Runde) – Daytona Kartsport in Langenzersdorf bei Wien. Inkl. Leihmotorrad\, aller Sturzkosten\, Streckenmiete und InstruktorInfo: Schutzausrüstung ist Eigenverantwortung und selbst mitzubringen. \nWir empfehlen: • Helm • Rückenschutz • Stiefel – über den Knöchel • Handschuhe mit Protektoren • Lederkombi (schützt besser) – Textil geht auch\, du kannst bei Bedarf vor Ort von uns kostenlos umschnallbare Knieslider ausleihen.
URL:https://motorrad.training/event/ultimatives-motorrad-hallentraining/2026-05-16/
LOCATION:Daytona Raceways\, Hochaustraße 33a\, 2103 Langenzersdorf\, Österreich\, Österreich
CATEGORIES:Fahren ohne Führerschein,Fahrsicherheitstraining,Instruktor-Training,Knieschleifen lernen,Kurventraining,Perfektionstraining,Rennstreckentraining,Schräglagentraining,Workshops
ATTACH;FMTTYPE=image/png:https://motorrad.training/wp-content/uploads/2025/10/HalleAT.png
ORGANIZER;CN="RIDE IT UP":MAILTO:info@rideitup.com
GEO:48.289691;16.3673902
X-APPLE-STRUCTURED-LOCATION;VALUE=URI;X-ADDRESS=Daytona Raceways Hochaustraße 33a 2103 Langenzersdorf Österreich Österreich;X-APPLE-RADIUS=500;X-TITLE=Hochaustraße 33a\, 2103 Langenzersdorf\, Österreich:geo:16.3673902,48.289691
END:VEVENT
BEGIN:VEVENT
DTSTART;TZID=Europe/Berlin:20260519T170000
DTEND;TZID=Europe/Berlin:20260519T200000
DTSTAMP:20260422T063457
CREATED:20251021T084553Z
LAST-MODIFIED:20251021T084553Z
UID:10000983-1779210000-1779220800@motorrad.training
SUMMARY:ultimatives Motorrad Hallentraining
DESCRIPTION:3h Motorrad Fahrtechniktraining in Österreichs größter Indoor Kartbahn inkl. Steilwandkurve (+1 Min. Fahrzeit/Runde) – Daytona Kartsport in Langenzersdorf bei Wien. Inkl. Leihmotorrad\, aller Sturzkosten\, Streckenmiete und InstruktorInfo: Schutzausrüstung ist Eigenverantwortung und selbst mitzubringen. \nWir empfehlen: • Helm • Rückenschutz • Stiefel – über den Knöchel • Handschuhe mit Protektoren • Lederkombi (schützt besser) – Textil geht auch\, du kannst bei Bedarf vor Ort von uns kostenlos umschnallbare Knieslider ausleihen.
URL:https://motorrad.training/event/ultimatives-motorrad-hallentraining/2026-05-19/
LOCATION:Daytona Raceways\, Hochaustraße 33a\, 2103 Langenzersdorf\, Österreich\, Österreich
CATEGORIES:Fahren ohne Führerschein,Fahrsicherheitstraining,Instruktor-Training,Knieschleifen lernen,Kurventraining,Perfektionstraining,Rennstreckentraining,Schräglagentraining,Workshops
ATTACH;FMTTYPE=image/png:https://motorrad.training/wp-content/uploads/2025/10/HalleAT.png
ORGANIZER;CN="RIDE IT UP":MAILTO:info@rideitup.com
GEO:48.289691;16.3673902
X-APPLE-STRUCTURED-LOCATION;VALUE=URI;X-ADDRESS=Daytona Raceways Hochaustraße 33a 2103 Langenzersdorf Österreich Österreich;X-APPLE-RADIUS=500;X-TITLE=Hochaustraße 33a\, 2103 Langenzersdorf\, Österreich:geo:16.3673902,48.289691
END:VEVENT
BEGIN:VEVENT
DTSTART;TZID=Europe/Berlin:20260523T080000
DTEND;TZID=Europe/Berlin:20260523T120000
DTSTAMP:20260422T063457
CREATED:20251021T084553Z
LAST-MODIFIED:20251021T084553Z
UID:10000984-1779523200-1779537600@motorrad.training
SUMMARY:ultimatives Motorrad Hallentraining
DESCRIPTION:3h Motorrad Fahrtechniktraining in Österreichs größter Indoor Kartbahn inkl. Steilwandkurve (+1 Min. Fahrzeit/Runde) – Daytona Kartsport in Langenzersdorf bei Wien. Inkl. Leihmotorrad\, aller Sturzkosten\, Streckenmiete und InstruktorInfo: Schutzausrüstung ist Eigenverantwortung und selbst mitzubringen. \nWir empfehlen: • Helm • Rückenschutz • Stiefel – über den Knöchel • Handschuhe mit Protektoren • Lederkombi (schützt besser) – Textil geht auch\, du kannst bei Bedarf vor Ort von uns kostenlos umschnallbare Knieslider ausleihen.
URL:https://motorrad.training/event/ultimatives-motorrad-hallentraining/2026-05-23/
LOCATION:Daytona Raceways\, Hochaustraße 33a\, 2103 Langenzersdorf\, Österreich\, Österreich
CATEGORIES:Fahren ohne Führerschein,Fahrsicherheitstraining,Instruktor-Training,Knieschleifen lernen,Kurventraining,Perfektionstraining,Rennstreckentraining,Schräglagentraining,Workshops
ATTACH;FMTTYPE=image/png:https://motorrad.training/wp-content/uploads/2025/10/HalleAT.png
ORGANIZER;CN="RIDE IT UP":MAILTO:info@rideitup.com
GEO:48.289691;16.3673902
X-APPLE-STRUCTURED-LOCATION;VALUE=URI;X-ADDRESS=Daytona Raceways Hochaustraße 33a 2103 Langenzersdorf Österreich Österreich;X-APPLE-RADIUS=500;X-TITLE=Hochaustraße 33a\, 2103 Langenzersdorf\, Österreich:geo:16.3673902,48.289691
END:VEVENT
BEGIN:VEVENT
DTSTART;TZID=Europe/Berlin:20260526T170000
DTEND;TZID=Europe/Berlin:20260526T200000
DTSTAMP:20260422T063457
CREATED:20251021T084553Z
LAST-MODIFIED:20251021T084553Z
UID:10000985-1779814800-1779825600@motorrad.training
SUMMARY:ultimatives Motorrad Hallentraining
DESCRIPTION:3h Motorrad Fahrtechniktraining in Österreichs größter Indoor Kartbahn inkl. Steilwandkurve (+1 Min. Fahrzeit/Runde) – Daytona Kartsport in Langenzersdorf bei Wien. Inkl. Leihmotorrad\, aller Sturzkosten\, Streckenmiete und InstruktorInfo: Schutzausrüstung ist Eigenverantwortung und selbst mitzubringen. \nWir empfehlen: • Helm • Rückenschutz • Stiefel – über den Knöchel • Handschuhe mit Protektoren • Lederkombi (schützt besser) – Textil geht auch\, du kannst bei Bedarf vor Ort von uns kostenlos umschnallbare Knieslider ausleihen.
URL:https://motorrad.training/event/ultimatives-motorrad-hallentraining/2026-05-26/
LOCATION:Daytona Raceways\, Hochaustraße 33a\, 2103 Langenzersdorf\, Österreich\, Österreich
CATEGORIES:Fahren ohne Führerschein,Fahrsicherheitstraining,Instruktor-Training,Knieschleifen lernen,Kurventraining,Perfektionstraining,Rennstreckentraining,Schräglagentraining,Workshops
ATTACH;FMTTYPE=image/png:https://motorrad.training/wp-content/uploads/2025/10/HalleAT.png
ORGANIZER;CN="RIDE IT UP":MAILTO:info@rideitup.com
GEO:48.289691;16.3673902
X-APPLE-STRUCTURED-LOCATION;VALUE=URI;X-ADDRESS=Daytona Raceways Hochaustraße 33a 2103 Langenzersdorf Österreich Österreich;X-APPLE-RADIUS=500;X-TITLE=Hochaustraße 33a\, 2103 Langenzersdorf\, Österreich:geo:16.3673902,48.289691
END:VEVENT
BEGIN:VEVENT
DTSTART;TZID=Europe/Berlin:20260530T080000
DTEND;TZID=Europe/Berlin:20260530T120000
DTSTAMP:20260422T063457
CREATED:20251021T084553Z
LAST-MODIFIED:20251021T084553Z
UID:10000986-1780128000-1780142400@motorrad.training
SUMMARY:ultimatives Motorrad Hallentraining
DESCRIPTION:3h Motorrad Fahrtechniktraining in Österreichs größter Indoor Kartbahn inkl. Steilwandkurve (+1 Min. Fahrzeit/Runde) – Daytona Kartsport in Langenzersdorf bei Wien. Inkl. Leihmotorrad\, aller Sturzkosten\, Streckenmiete und InstruktorInfo: Schutzausrüstung ist Eigenverantwortung und selbst mitzubringen. \nWir empfehlen: • Helm • Rückenschutz • Stiefel – über den Knöchel • Handschuhe mit Protektoren • Lederkombi (schützt besser) – Textil geht auch\, du kannst bei Bedarf vor Ort von uns kostenlos umschnallbare Knieslider ausleihen.
URL:https://motorrad.training/event/ultimatives-motorrad-hallentraining/2026-05-30/
LOCATION:Daytona Raceways\, Hochaustraße 33a\, 2103 Langenzersdorf\, Österreich\, Österreich
CATEGORIES:Fahren ohne Führerschein,Fahrsicherheitstraining,Instruktor-Training,Knieschleifen lernen,Kurventraining,Perfektionstraining,Rennstreckentraining,Schräglagentraining,Workshops
ATTACH;FMTTYPE=image/png:https://motorrad.training/wp-content/uploads/2025/10/HalleAT.png
ORGANIZER;CN="RIDE IT UP":MAILTO:info@rideitup.com
GEO:48.289691;16.3673902
X-APPLE-STRUCTURED-LOCATION;VALUE=URI;X-ADDRESS=Daytona Raceways Hochaustraße 33a 2103 Langenzersdorf Österreich Österreich;X-APPLE-RADIUS=500;X-TITLE=Hochaustraße 33a\, 2103 Langenzersdorf\, Österreich:geo:16.3673902,48.289691
END:VEVENT
BEGIN:VEVENT
DTSTART;TZID=Europe/Berlin:20260606T080000
DTEND;TZID=Europe/Berlin:20260606T120000
DTSTAMP:20260422T063457
CREATED:20251021T084553Z
LAST-MODIFIED:20251021T084553Z
UID:10000987-1780732800-1780747200@motorrad.training
SUMMARY:ultimatives Motorrad Hallentraining
DESCRIPTION:3h Motorrad Fahrtechniktraining in Österreichs größter Indoor Kartbahn inkl. Steilwandkurve (+1 Min. Fahrzeit/Runde) – Daytona Kartsport in Langenzersdorf bei Wien. Inkl. Leihmotorrad\, aller Sturzkosten\, Streckenmiete und InstruktorInfo: Schutzausrüstung ist Eigenverantwortung und selbst mitzubringen. \nWir empfehlen: • Helm • Rückenschutz • Stiefel – über den Knöchel • Handschuhe mit Protektoren • Lederkombi (schützt besser) – Textil geht auch\, du kannst bei Bedarf vor Ort von uns kostenlos umschnallbare Knieslider ausleihen.
URL:https://motorrad.training/event/ultimatives-motorrad-hallentraining/2026-06-06/
LOCATION:Daytona Raceways\, Hochaustraße 33a\, 2103 Langenzersdorf\, Österreich\, Österreich
CATEGORIES:Fahren ohne Führerschein,Fahrsicherheitstraining,Instruktor-Training,Knieschleifen lernen,Kurventraining,Perfektionstraining,Rennstreckentraining,Schräglagentraining,Workshops
ATTACH;FMTTYPE=image/png:https://motorrad.training/wp-content/uploads/2025/10/HalleAT.png
ORGANIZER;CN="RIDE IT UP":MAILTO:info@rideitup.com
GEO:48.289691;16.3673902
X-APPLE-STRUCTURED-LOCATION;VALUE=URI;X-ADDRESS=Daytona Raceways Hochaustraße 33a 2103 Langenzersdorf Österreich Österreich;X-APPLE-RADIUS=500;X-TITLE=Hochaustraße 33a\, 2103 Langenzersdorf\, Österreich:geo:16.3673902,48.289691
END:VEVENT
BEGIN:VEVENT
DTSTART;TZID=Europe/Berlin:20260609T170000
DTEND;TZID=Europe/Berlin:20260609T200000
DTSTAMP:20260422T063457
CREATED:20251021T084553Z
LAST-MODIFIED:20251021T084553Z
UID:10000988-1781024400-1781035200@motorrad.training
SUMMARY:ultimatives Motorrad Hallentraining
DESCRIPTION:3h Motorrad Fahrtechniktraining in Österreichs größter Indoor Kartbahn inkl. Steilwandkurve (+1 Min. Fahrzeit/Runde) – Daytona Kartsport in Langenzersdorf bei Wien. Inkl. Leihmotorrad\, aller Sturzkosten\, Streckenmiete und InstruktorInfo: Schutzausrüstung ist Eigenverantwortung und selbst mitzubringen. \nWir empfehlen: • Helm • Rückenschutz • Stiefel – über den Knöchel • Handschuhe mit Protektoren • Lederkombi (schützt besser) – Textil geht auch\, du kannst bei Bedarf vor Ort von uns kostenlos umschnallbare Knieslider ausleihen.
URL:https://motorrad.training/event/ultimatives-motorrad-hallentraining/2026-06-09/
LOCATION:Daytona Raceways\, Hochaustraße 33a\, 2103 Langenzersdorf\, Österreich\, Österreich
CATEGORIES:Fahren ohne Führerschein,Fahrsicherheitstraining,Instruktor-Training,Knieschleifen lernen,Kurventraining,Perfektionstraining,Rennstreckentraining,Schräglagentraining,Workshops
ATTACH;FMTTYPE=image/png:https://motorrad.training/wp-content/uploads/2025/10/HalleAT.png
ORGANIZER;CN="RIDE IT UP":MAILTO:info@rideitup.com
GEO:48.289691;16.3673902
X-APPLE-STRUCTURED-LOCATION;VALUE=URI;X-ADDRESS=Daytona Raceways Hochaustraße 33a 2103 Langenzersdorf Österreich Österreich;X-APPLE-RADIUS=500;X-TITLE=Hochaustraße 33a\, 2103 Langenzersdorf\, Österreich:geo:16.3673902,48.289691
END:VEVENT
BEGIN:VEVENT
DTSTART;TZID=Europe/Berlin:20260613T080000
DTEND;TZID=Europe/Berlin:20260613T120000
DTSTAMP:20260422T063457
CREATED:20251021T084553Z
LAST-MODIFIED:20251021T084553Z
UID:10000989-1781337600-1781352000@motorrad.training
SUMMARY:ultimatives Motorrad Hallentraining
DESCRIPTION:3h Motorrad Fahrtechniktraining in Österreichs größter Indoor Kartbahn inkl. Steilwandkurve (+1 Min. Fahrzeit/Runde) – Daytona Kartsport in Langenzersdorf bei Wien. Inkl. Leihmotorrad\, aller Sturzkosten\, Streckenmiete und InstruktorInfo: Schutzausrüstung ist Eigenverantwortung und selbst mitzubringen. \nWir empfehlen: • Helm • Rückenschutz • Stiefel – über den Knöchel • Handschuhe mit Protektoren • Lederkombi (schützt besser) – Textil geht auch\, du kannst bei Bedarf vor Ort von uns kostenlos umschnallbare Knieslider ausleihen.
URL:https://motorrad.training/event/ultimatives-motorrad-hallentraining/2026-06-13/
LOCATION:Daytona Raceways\, Hochaustraße 33a\, 2103 Langenzersdorf\, Österreich\, Österreich
CATEGORIES:Fahren ohne Führerschein,Fahrsicherheitstraining,Instruktor-Training,Knieschleifen lernen,Kurventraining,Perfektionstraining,Rennstreckentraining,Schräglagentraining,Workshops
ATTACH;FMTTYPE=image/png:https://motorrad.training/wp-content/uploads/2025/10/HalleAT.png
ORGANIZER;CN="RIDE IT UP":MAILTO:info@rideitup.com
GEO:48.289691;16.3673902
X-APPLE-STRUCTURED-LOCATION;VALUE=URI;X-ADDRESS=Daytona Raceways Hochaustraße 33a 2103 Langenzersdorf Österreich Österreich;X-APPLE-RADIUS=500;X-TITLE=Hochaustraße 33a\, 2103 Langenzersdorf\, Österreich:geo:16.3673902,48.289691
END:VEVENT
BEGIN:VEVENT
DTSTART;TZID=Europe/Berlin:20260616T170000
DTEND;TZID=Europe/Berlin:20260616T200000
DTSTAMP:20260422T063457
CREATED:20251021T084553Z
LAST-MODIFIED:20251021T084553Z
UID:10000990-1781629200-1781640000@motorrad.training
SUMMARY:ultimatives Motorrad Hallentraining
DESCRIPTION:3h Motorrad Fahrtechniktraining in Österreichs größter Indoor Kartbahn inkl. Steilwandkurve (+1 Min. Fahrzeit/Runde) – Daytona Kartsport in Langenzersdorf bei Wien. Inkl. Leihmotorrad\, aller Sturzkosten\, Streckenmiete und InstruktorInfo: Schutzausrüstung ist Eigenverantwortung und selbst mitzubringen. \nWir empfehlen: • Helm • Rückenschutz • Stiefel – über den Knöchel • Handschuhe mit Protektoren • Lederkombi (schützt besser) – Textil geht auch\, du kannst bei Bedarf vor Ort von uns kostenlos umschnallbare Knieslider ausleihen.
URL:https://motorrad.training/event/ultimatives-motorrad-hallentraining/2026-06-16/
LOCATION:Daytona Raceways\, Hochaustraße 33a\, 2103 Langenzersdorf\, Österreich\, Österreich
CATEGORIES:Fahren ohne Führerschein,Fahrsicherheitstraining,Instruktor-Training,Knieschleifen lernen,Kurventraining,Perfektionstraining,Rennstreckentraining,Schräglagentraining,Workshops
ATTACH;FMTTYPE=image/png:https://motorrad.training/wp-content/uploads/2025/10/HalleAT.png
ORGANIZER;CN="RIDE IT UP":MAILTO:info@rideitup.com
GEO:48.289691;16.3673902
X-APPLE-STRUCTURED-LOCATION;VALUE=URI;X-ADDRESS=Daytona Raceways Hochaustraße 33a 2103 Langenzersdorf Österreich Österreich;X-APPLE-RADIUS=500;X-TITLE=Hochaustraße 33a\, 2103 Langenzersdorf\, Österreich:geo:16.3673902,48.289691
END:VEVENT
END:VCALENDAR